BEGIN:VCALENDAR
VERSION:2.0
PRODID:-//IMFS Event - ECPv6.15.12//NONSGML v1.0//EN
CALSCALE:GREGORIAN
METHOD:PUBLISH
X-ORIGINAL-URL:https://imsfevent.com
X-WR-CALDESC:Events for IMFS Event
REFRESH-INTERVAL;VALUE=DURATION:PT1H
X-Robots-Tag:noindex
X-PUBLISHED-TTL:PT1H
BEGIN:VTIMEZONE
TZID:America/New_York
BEGIN:DAYLIGHT
TZOFFSETFROM:-0500
TZOFFSETTO:-0400
TZNAME:EDT
DTSTART:20240310T070000
END:DAYLIGHT
BEGIN:STANDARD
TZOFFSETFROM:-0400
TZOFFSETTO:-0500
TZNAME:EST
DTSTART:20241103T060000
END:STANDARD
BEGIN:DAYLIGHT
TZOFFSETFROM:-0500
TZOFFSETTO:-0400
TZNAME:EDT
DTSTART:20250309T070000
END:DAYLIGHT
BEGIN:STANDARD
TZOFFSETFROM:-0400
TZOFFSETTO:-0500
TZNAME:EST
DTSTART:20251102T060000
END:STANDARD
BEGIN:DAYLIGHT
TZOFFSETFROM:-0500
TZOFFSETTO:-0400
TZNAME:EDT
DTSTART:20260308T070000
END:DAYLIGHT
BEGIN:STANDARD
TZOFFSETFROM:-0400
TZOFFSETTO:-0500
TZNAME:EST
DTSTART:20261101T060000
END:STANDARD
END:VTIMEZONE
BEGIN:VEVENT
DTSTART;VALUE=DATE:20250830
DTEND;VALUE=DATE:20250901
DTSTAMP:20260423T232647
CREATED:20250624T080311Z
LAST-MODIFIED:20250624T081335Z
UID:10000391-1756512000-1756684799@imsfevent.com
SUMMARY:INDIA MEDICAL SCHOOL FAIR – BANGALORE\, KARNATAKA
DESCRIPTION:🎓 India Medical School Fair – 2025\n📍 August 31 | Bangalore\nYour Future in Medicine Starts Here \nAre you planning to study MBBS or MD abroad? Don’t miss India’s biggest medical education networking event! \n🌍 Meet Top Medical Schools from the U.S.\, UK\, Caribbean\, Europe & more – All in One Place! \n🔹 Network with Directors of Admissions\n🔹 Explore global programs\, scholarships\, and pathways\n🔹 Discover why over 25\,000 Indian students go abroad for medical education every year\n🔹 Learn how to overcome NEET competition\, limited seats\, and high tuition fees in India \n🎯 If you are looking to practice as a doctor ABROAD—this fair is your chance to explore every option. \n✅ FREE ENTRY | Limited Spots | Register Now \n📢 Be there. Be informed. Be a future global doctor. \nView Partner Medical Schools \n 
URL:https://imsfevent.com/event/india-medical-school-fair-karnataka/
LOCATION:BANGALORE\, KARNATAKA\, India
CATEGORIES:India,Student
ATTACH;FMTTYPE=image/png:https://imsfevent.com/wp-content/uploads/2025/05/India-1024x344-1.png
END:VEVENT
BEGIN:VEVENT
DTSTART;VALUE=DATE:20250830
DTEND;VALUE=DATE:20250831
DTSTAMP:20260423T232647
CREATED:20250621T212514Z
LAST-MODIFIED:20250624T164728Z
UID:10000390-1756512000-1756598399@imsfevent.com
SUMMARY:INDIA MEDICAL SCHOOL FAIR – DELHI
DESCRIPTION:🎓 India Medical School Fair – 2025\n📍 August 30 | Delhi\nYour Future in Medicine Starts Here \nAre you planning to study MBBS or MD abroad? Don’t miss India’s biggest medical education networking event! \n🌍 Meet Top Medical Schools from the U.S.\, UK\, Caribbean\, Europe & more – All in One Place! \n🔹 Network with Directors of Admissions\n🔹 Explore global programs\, scholarships\, and pathways\n🔹 Discover why over 25\,000 Indian students go abroad for medical education every year\n🔹 Learn how to overcome NEET competition\, limited seats\, and high tuition fees in India \n🎯 If you are looking to practice as a doctor ABROAD—this fair is your chance to explore every option. \n✅ FREE ENTRY | Limited Spots | Register Now \n📢 Be there. Be informed. Be a future global doctor. \nView Partner Medical Schools \n 
URL:https://imsfevent.com/event/india-medical-school-fair-delhi/
LOCATION:Delhi\, India (City Wide Event)\, Delhi\, India
CATEGORIES:India,Student
ATTACH;FMTTYPE=image/png:https://imsfevent.com/wp-content/uploads/2025/05/India-1024x344-1.png
END:VEVENT
END:VCALENDAR