BEGIN:VCALENDAR
VERSION:2.0
PRODID:-//IMFS Event - ECPv6.15.12//NONSGML v1.0//EN
CALSCALE:GREGORIAN
METHOD:PUBLISH
X-ORIGINAL-URL:https://imsfevent.com
X-WR-CALDESC:Events for IMFS Event
REFRESH-INTERVAL;VALUE=DURATION:PT1H
X-Robots-Tag:noindex
X-PUBLISHED-TTL:PT1H
BEGIN:VTIMEZONE
TZID:America/New_York
BEGIN:DAYLIGHT
TZOFFSETFROM:-0500
TZOFFSETTO:-0400
TZNAME:EDT
DTSTART:20240310T070000
END:DAYLIGHT
BEGIN:STANDARD
TZOFFSETFROM:-0400
TZOFFSETTO:-0500
TZNAME:EST
DTSTART:20241103T060000
END:STANDARD
BEGIN:DAYLIGHT
TZOFFSETFROM:-0500
TZOFFSETTO:-0400
TZNAME:EDT
DTSTART:20250309T070000
END:DAYLIGHT
BEGIN:STANDARD
TZOFFSETFROM:-0400
TZOFFSETTO:-0500
TZNAME:EST
DTSTART:20251102T060000
END:STANDARD
BEGIN:DAYLIGHT
TZOFFSETFROM:-0500
TZOFFSETTO:-0400
TZNAME:EDT
DTSTART:20260308T070000
END:DAYLIGHT
BEGIN:STANDARD
TZOFFSETFROM:-0400
TZOFFSETTO:-0500
TZNAME:EST
DTSTART:20261101T060000
END:STANDARD
END:VTIMEZONE
BEGIN:VEVENT
DTSTART;VALUE=DATE:20251016
DTEND;VALUE=DATE:20251017
DTSTAMP:20260423T174405
CREATED:20250628T093101Z
LAST-MODIFIED:20251008T185753Z
UID:10000400-1760572800-1760659199@imsfevent.com
SUMMARY:UNIVERSITY OF CALIFORNIA SAN DIEGO MEDICAL SCHOOL FAIR
DESCRIPTION:📍 October 16th | University of California San Diego \nYour Future in Medicine Starts Here \nAre you looking to pursue Medicine as a career? Don’t miss California’s biggest medical education networking event! \n🌍 Meet Top Medical Schools from the U.S.\, UK\, Europe\, Caribbean & more – All in One Place! \n🔹 Network with Directors of Admissions\n🔹 Explore US\, Europe and global programs\, scholarships\, and pathways\n🔹 Learn how to stand out in your application \n🎯 If you are looking to pursue Medicine and other Healthcare Programs—this fair is your chance to explore every option. \n✅ FREE ENTRY | Limited Spots | Register Now  \n📢 Be there. Be informed. Be a future global healthcare leader. \nView Partner Medical Schools \n 
URL:https://imsfevent.com/event/california-medical-school-fair-university-of-california-san-diego/
LOCATION:University of California San Diego\, CA\, United States
CATEGORIES:Student,US
ATTACH;FMTTYPE=image/png:https://imsfevent.com/wp-content/uploads/2025/06/UCSD-1-1.png
END:VEVENT
BEGIN:VEVENT
DTSTART;VALUE=DATE:20251015
DTEND;VALUE=DATE:20251016
DTSTAMP:20260423T174405
CREATED:20250628T091831Z
LAST-MODIFIED:20251008T185620Z
UID:10000399-1760486400-1760572799@imsfevent.com
SUMMARY:UNIVERSITY OF CALIFORNIA IRVINE MEDICAL SCHOOL FAIR
DESCRIPTION:🎓  UC Irvine Medical School Fair – 2025\n📍 October 15th | University of California Irvine \nYour Future in Medicine Starts Here \nAre you looking to pursue Medicine as a career? Don’t miss California’s biggest medical education networking event! \n🌍 Meet Top Medical Schools from the U.S.\, UK\, Europe\, Caribbean & more – All in One Place! \n🔹 Network with Directors of Admissions\n🔹 Explore US\, Europe and global programs\, scholarships\, and pathways\n🔹 Learn how to stand out in your application \n🎯 If you are looking to pursue Medicine and other Healthcare Programs—this fair is your chance to explore every option. \n✅ FREE ENTRY | Limited Spots | Register Now  \n📢 Be there. Be informed. Be a future global healthcare leader. \nView Partner Medical Schools \n 
URL:https://imsfevent.com/event/california-medical-school-fair-university-of-california-irvine/
LOCATION:University of California Irvine\, United States
CATEGORIES:Student,US
ATTACH;FMTTYPE=image/png:https://imsfevent.com/wp-content/uploads/2025/06/UC-IRVINE-1-1.png
END:VEVENT
BEGIN:VEVENT
DTSTART;VALUE=DATE:20251014
DTEND;VALUE=DATE:20251017
DTSTAMP:20260423T174405
CREATED:20250529T022727Z
LAST-MODIFIED:20250627T170711Z
UID:10000006-1760400000-1760659199@imsfevent.com
SUMMARY:CALIFORNIA MEDICAL SCHOOL FAIR - EXHIBITOR
DESCRIPTION:☀️ Exhibit at the California Medical School Fair – USA 2025\nDates & Locations:📍 October 14 – UCLA (University of California\, Los Angeles)📍 October 15 – UC Irvine (University of California\, Irvine)📍 October 16 – UC San Diego (University of California\, San Diego) \nAfter last year’s tremendous success\, the California Medical School Fair is back — bigger and better! Don’t miss the opportunity to connect with thousands of passionate pre-med students across three of California’s top universities. \nWhy Exhibit?\n\n🧠 Engage directly with highly motivated pre-med and pre-health candidates\n🌎 Showcase your programs to a diverse and talented student body\n🤝 Network with academic advisors\, pre-health organizations\, and peers\n🎤 Lead sessions and advising meetings to highlight your unique strengths\n\nIdeal for:\n\nU.S. and International Medical Schools\nDoctor of Osteopathic Medical Schools\nDental\, Veterinary\,Optometry\, Pharmacy and other healthcare Programs\nPost-Bacc & Pre-Med Programs\nMedical Admissions Consultants\nMCAT & Application Prep Services\n\n🎯 Maximize your outreach in one of the most influential meadical education markets in North America.
URL:https://imsfevent.com/event/california-medical-school-fair-exhibitor/
LOCATION:UCLA (University of California\, Los Angeles)\, 405 Hilgard Ave\, Los Angeles\, CA\, 90095\, United States
CATEGORIES:Exhibitor
ATTACH;FMTTYPE=image/png:https://imsfevent.com/wp-content/uploads/2025/05/California.png
END:VEVENT
BEGIN:VEVENT
DTSTART;VALUE=DATE:20251014
DTEND;VALUE=DATE:20251015
DTSTAMP:20260423T174405
CREATED:20250628T090525Z
LAST-MODIFIED:20251008T185538Z
UID:10000398-1760400000-1760486399@imsfevent.com
SUMMARY:UNIVERSITY OF CALIFORNIA LOS ANGELES MEDICAL SCHOOL FAIR
DESCRIPTION:🎓  UCLA Medical School Fair – 2025\n📍 October 14th | University of California Los Angeles \nYour Future in Medicine Starts Here \nAre you looking to pursue Medicine as a career? Don’t miss California’s biggest medical education networking event! \n🌍 Meet Top Medical Schools from the U.S.\, UK\, Europe\, Caribbean & more – All in One Place! \n🔹 Network with Directors of Admissions\n🔹 Explore US\, Europe and global programs\, scholarships\, and pathways\n🔹 Learn how to stand out in your application \n🎯 If you are looking to pursue Medicine and other Healthcare Programs—this fair is your chance to explore every option. \n✅ FREE ENTRY | Limited Spots | Register Now  \n📢 Be there. Be informed. Be a future global healthcare leader. \nView Partner Medical Schools \n 
URL:https://imsfevent.com/event/california-medical-school-fair-university-of-california-los-angeles/
LOCATION:University of California Los Angeles\, CA\, United States
CATEGORIES:Student,US
ATTACH;FMTTYPE=image/png:https://imsfevent.com/wp-content/uploads/2025/06/UCLA-2-1.png
END:VEVENT
BEGIN:VEVENT
DTSTART;VALUE=DATE:20251007
DTEND;VALUE=DATE:20251008
DTSTAMP:20260423T174405
CREATED:20250715T185213Z
LAST-MODIFIED:20251008T193717Z
UID:10000435-1759795200-1759881599@imsfevent.com
SUMMARY:UNIVERSITY OF WATERLOO MEDICAL SCHOOL FAIR
DESCRIPTION:🎓  University of Guelph Medical School Fairs – 2025\n📍 October 7th  | University of Waterloo\n \nYour Future in Medicine Starts Here \nAre you looking to pursue Medicine as a career? Don’t miss Canada’s biggest medical education networking event! \n🌍 Meet Top Medical Schools from the U.S.\, UK\, Europe\, Caribbean & more – All in One Place! \n🔹 Network with Directors of Admissions\n🔹 Explore US\, Europe and global programs\, scholarships\, and pathways\n🔹 Learn how to stand out in your application \n🎯 If you are looking to pursue Medicine and other Healthcare Programs—this fair is your chance to explore every option. \n✅ FREE ENTRY | Limited Spots | Register Now \n📢 Be there. Be informed. Be a future global healthcare leader. \nView Partner Medical Schools
URL:https://imsfevent.com/event/university-of-waterloo-medical-school-fair/
LOCATION:University of Waterloo\, 200 University Ave W\,\, Waterloo\, ON\, N2L 3G1\, Canada
CATEGORIES:Canada,Student
ATTACH;FMTTYPE=image/png:https://imsfevent.com/wp-content/uploads/2025/07/WATERLOO-2.png
END:VEVENT
BEGIN:VEVENT
DTSTART;VALUE=DATE:20251006
DTEND;VALUE=DATE:20251008
DTSTAMP:20260423T174405
CREATED:20250715T185631Z
LAST-MODIFIED:20250917T160010Z
UID:10000436-1759708800-1759881599@imsfevent.com
SUMMARY:GUELPH and WATERLOO MEDICAL SCHOOL FAIR - EXHIBITOR
DESCRIPTION:🍁 Exhibit at the Guelph and Waterloo Medical School Fair – Canada 2025\nDates & Locations:📍 October 6 – University of Guelph📍 October 7 – University of Waterloo \nConnect with one of Canada’s largest pools of aspiring medical students across three powerful days of engagement and exposure. \nWhy Exhibit?\n\n🎓 Meet thousands of highly driven students from Canada’s top universities\n🌎 Promote your medical programs to a diverse and globally-minded audience\n🤝 Build relationships with academic advisors\, education agents\, and partners\n🎤 Host sessions and personal advising to highlight your school’s strengths\n\nPerfect for:\n\nCanadian\, U.S. and International Medical Schools\nDoctor of Osteopathic Medical Schools\nDental\, Veterinary\,Optometry\, Pharmacy and other healthcare Programs\nPost-Bacc & Pre-Med Programs\nMedical Admissions Consultants\nMCAT & Application Prep Services\n\n\n🚀 Expand your reach in Canada’s most dynamic education hub specifically for Medicine and Healthcare Programs.
URL:https://imsfevent.com/event/guelph-waterloo-medical-school-fair-exhibitor-2/
LOCATION:University of Guelph\, 50 Stone Rd E\, Guelph\, ON\, N1G 2W1\, Canada
CATEGORIES:Exhibitor
END:VEVENT
BEGIN:VEVENT
DTSTART;VALUE=DATE:20251006
DTEND;VALUE=DATE:20251008
DTSTAMP:20260423T174405
CREATED:20250715T184634Z
LAST-MODIFIED:20250930T155153Z
UID:10000434-1759708800-1759881599@imsfevent.com
SUMMARY:UNIVERSITY OF GUELPH MEDICAL SCHOOL FAIR
DESCRIPTION:🎓  University of Guelph Medical School Fairs – 2025\n📍 October 6th  | University of Guelph\n \nYour Future in Medicine Starts Here \nAre you looking to pursue Medicine as a career? Don’t miss Canada’s biggest medical education networking event! \n🌍 Meet Top Medical Schools from the U.S.\, UK\, Europe\, Caribbean & more – All in One Place! \n🔹 Network with Directors of Admissions\n🔹 Explore US\, Europe and global programs\, scholarships\, and pathways\n🔹 Learn how to stand out in your application \n🎯 If you are looking to pursue Medicine and other Healthcare Programs—this fair is your chance to explore every option. \n✅ FREE ENTRY | Limited Spots | Register Now \n📢 Be there. Be informed. Be a future global healthcare leader. \nView Partner Medical Schools
URL:https://imsfevent.com/event/guelph-waterloo-medical-school-fair/
LOCATION:University of Guelph\, 50 Stone Rd E\, Guelph\, ON\, N1G 2W1\, Canada
CATEGORIES:Canada,Student
ATTACH;FMTTYPE=image/png:https://imsfevent.com/wp-content/uploads/2025/06/GUELPH.png
END:VEVENT
BEGIN:VEVENT
DTSTART;VALUE=DATE:20251004
DTEND;VALUE=DATE:20251006
DTSTAMP:20260423T174405
CREATED:20250627T063017Z
LAST-MODIFIED:20250922T150448Z
UID:10000396-1759536000-1759708799@imsfevent.com
SUMMARY:TORONTO MEDICAL SCHOOL FAIR (City-Wide Event)
DESCRIPTION:🎓  Toronto City Medical School Fair – 2025\n📍 October 4th | Chelsea Hotel Downtown \nYour Future in Medicine Starts Here \nAre you looking to pursue Medicine as a career? Don’t miss Toronto’s biggest medical education networking event! \n🌍 Meet Top Medical Schools from the U.S.\, UK\, Europe\, Caribbean & more – All in One Place! \n🔹 Network with Directors of Admissions\n🔹 Explore US\, Europe and global programs\, scholarships\, and pathways\n🔹 Learn how to stand out in your application \n🎯 If you are looking to pursue Medicine and other Healthcare Programs—this fair is your chance to explore every option. \n✅ FREE ENTRY | Limited Spots | Register Now  \n📢 Be there. Be informed. Be a future global healthcare leader. \nView Partner Medical Schools \n 
URL:https://imsfevent.com/event/toronto-medical-school-fair-city-of-toronto/
LOCATION:Chelsea Hotel Downtown\, Canada
CATEGORIES:Canada,Student
ATTACH;FMTTYPE=image/png:https://imsfevent.com/wp-content/uploads/2025/06/TORONTO.png
END:VEVENT
BEGIN:VEVENT
DTSTART;VALUE=DATE:20251003
DTEND;VALUE=DATE:20251005
DTSTAMP:20260423T174405
CREATED:20250624T085957Z
LAST-MODIFIED:20250930T164818Z
UID:10000395-1759449600-1759622399@imsfevent.com
SUMMARY:YORK UNIVERSITY MEDICAL SCHOOL FAIR
DESCRIPTION:🎓  York University Medical School Fair – 2025\n📍 October 3rd | York University \nYour Future in Medicine Starts Here \nAre you looking to pursue Medicine as a career? Don’t miss Toronto’s biggest medical education networking event! \n🌍 Meet Top Medical Schools from the U.S.\, UK\, Europe\, Caribbean & more – All in One Place! \n🔹 Network with Directors of Admissions\n🔹 Explore US\, Europe and global programs\, scholarships\, and pathways\n🔹 Learn how to stand out in your application \n🎯 If you are looking to pursue Medicine and other Healthcare Programs—this fair is your chance to explore every option. \n✅ FREE ENTRY | Limited Spots | Register Now  \n📢 Be there. Be informed. Be a future global healthcare leader. \nView Partner Medical Schools \n 
URL:https://imsfevent.com/event/toronto-medical-school-fair-york-university/
LOCATION:York University\, 4700 Keele St\, North York\, Toronto\, Ontario\, M3J 1P3\, Canada
CATEGORIES:Canada,Student
ATTACH;FMTTYPE=image/png:https://imsfevent.com/wp-content/uploads/2025/06/YORK-UNIVERSITY-1.png
END:VEVENT
BEGIN:VEVENT
DTSTART;VALUE=DATE:20251002
DTEND;VALUE=DATE:20251005
DTSTAMP:20260423T174405
CREATED:20250529T022123Z
LAST-MODIFIED:20250627T170834Z
UID:10000005-1759363200-1759622399@imsfevent.com
SUMMARY:TORONTO MEDICAL SCHOOL FAIR - EXHIBITOR
DESCRIPTION:🍁 Exhibit at the Toronto Medical School Fair – Canada 2025\nDates & Locations:📍 October 2 – University of Toronto Scarborough📍 October 3 – York University📍 October 4 – Citywide Event – Downtown Toronto \nConnect with one of Canada’s largest pools of aspiring medical students across three powerful days of engagement and exposure. \nWhy Exhibit?\n\n🎓 Meet thousands of highly driven students from Canada’s top universities\n🌎 Promote your medical programs to a diverse and globally-minded audience\n🤝 Build relationships with academic advisors\, education agents\, and partners\n🎤 Host sessions and personal advising to highlight your school’s strengths\n\nPerfect for:\n\nCanadian\, U.S. and International Medical Schools\nDoctor of Osteopathic Medical Schools\nDental\, Veterinary\,Optometry\, Pharmacy and other healthcare Programs\nPost-Bacc & Pre-Med Programs\nMedical Admissions Consultants\nMCAT & Application Prep Services\n\n\n🚀 Expand your reach in Canada’s most dynamic education hub specifically for Medicine and Healthcare Programs.
URL:https://imsfevent.com/event/toronto-medical-school-fair-exhibitor/
LOCATION:University of Toronto Scarborough\, 1265 Military Trail\, Scarborough\, Toronto\, Ontario\, M1C 1A4\, Canada
CATEGORIES:Exhibitor
ATTACH;FMTTYPE=image/png:https://imsfevent.com/wp-content/uploads/2025/05/Toronto.png
END:VEVENT
BEGIN:VEVENT
DTSTART;VALUE=DATE:20251002
DTEND;VALUE=DATE:20251004
DTSTAMP:20260423T174405
CREATED:20250624T085529Z
LAST-MODIFIED:20250930T163046Z
UID:10000394-1759363200-1759535999@imsfevent.com
SUMMARY:UNIVERSITY OF SCARBOROUGH MEDICAL SCHOOL FAIR
DESCRIPTION:📍 October 2nd | University of Toronto Scarborough\, Highland Hall \nYour Future in Medicine Starts Here \nAre you looking to pursue Medicine as a career? Don’t miss Toronto’s biggest medical education networking event! \n🌍 Meet Top Medical Schools from the U.S.\, UK\, Europe\, Caribbean & more – All in One Place! \n🔹 Network with Directors of Admissions\n🔹 Explore US\, Europe and global programs\, scholarships\, and pathways\n🔹 Learn how to stand out in your application \n🎯 If you are looking to pursue Medicine and other Healthcare Programs—this fair is your chance to explore every option. \n✅ FREE ENTRY | Limited Spots | Register Now  \n📢 Be there. Be informed. Be a future global healthcare leader. \nView Partner Medical Schools \n 
URL:https://imsfevent.com/event/toronto-medical-school-fair-university-of-toronto-scarborough/
LOCATION:University of Toronto Scarborough\, Highland Hall\, Canada
CATEGORIES:Canada,Student
ATTACH;FMTTYPE=image/png:https://imsfevent.com/wp-content/uploads/2025/06/SCARBOROUGH-1.png
END:VEVENT
BEGIN:VEVENT
DTSTART;VALUE=DATE:20250923
DTEND;VALUE=DATE:20250924
DTSTAMP:20260423T174405
CREATED:20250624T084335Z
LAST-MODIFIED:20250917T180825Z
UID:10000393-1758585600-1758671999@imsfevent.com
SUMMARY:University at Buffalo Medical School Fair
DESCRIPTION:🎓  NYU Medical School Fair – 2025\n📍 September 23rd | University at Buffalo – Silverman Library Capen Bldg. \nYour Future in Medicine Starts Here \nAre you looking to pursue Medicine as a career? Don’t miss NY’s biggest medical education networking event! \n🌍 Meet Top Medical Schools from the U.S.\, UK\, Europe\, Caribbean & more – All in One Place! \n🔹 Network with Directors of Admissions\n🔹 Explore US and global programs\, scholarships\, and pathways\n🔹 Learn how to stand out in your application \n🎯 If you are looking to pursue Medicine and other Healthcare Programs—this fair is your chance to explore every option. \n✅ FREE ENTRY | Limited Spots | Register Now  \n📢 Be there. Be informed. Be a future global healthcare leader. \nView Partner Medical Schools \n 
URL:https://imsfevent.com/event/ny-medical-school-fair-university-at-buffalo/
LOCATION:University at Buffalo – Silverman Library Capen Bldg.\, United States
CATEGORIES:Student,US
ATTACH;FMTTYPE=image/png:https://imsfevent.com/wp-content/uploads/2025/06/BUFFALO-UNIVERSITY.png
END:VEVENT
BEGIN:VEVENT
DTSTART;VALUE=DATE:20250922
DTEND;VALUE=DATE:20250924
DTSTAMP:20260423T174405
CREATED:20250514T214315Z
LAST-MODIFIED:20250627T171012Z
UID:10000001-1758499200-1758671999@imsfevent.com
SUMMARY:NEW YORK MEDICAL SCHOOL FAIR - EXHIBITOR
DESCRIPTION:🏛️ Exhibit at the U.S. Medical School Fair – New York 2025\nDates & Locations:📍 September 22 – New York University (NYU)📍 September 23 – University at Buffalo (SUNY) \nShowcase your medical programs at two leading U.S. institutions and connect with hundreds of ambitious pre-med students planning their next step in medical education. \nWhy Exhibit?\n\n👩‍⚕️ Engage with highly motivated undergrads pursuing medical careers\n🧠 Promote your school’s programs\, admissions process\, and unique offerings\n🤝 Network with advisors\, faculty\, and partner institutions\n🎤 Present in info sessions\, panels\, and one-on-one consultations\n\nIdeal for:\n\nU.S. and International Medical Schools\nDoctor of Osteopathic Medical Schools\nDental\, Veterinary\,Optometry\, Pharmacy and other healthcare Programs\nPost-Bacc & Pre-Med Programs\nMedical Admissions Consultants\nMCAT & Application Prep Services\n\n🎯 Boost your brand visibility and student pipeline at two strategic New York campuses.
URL:https://imsfevent.com/event/new-york-medical-school-fair-exhibitor/
LOCATION:University of Buffalo\, 12 Capen Hall Buffalo\, New York\, NY\, 14260-1660\, United States
CATEGORIES:Exhibitor
ATTACH;FMTTYPE=image/png:https://imsfevent.com/wp-content/uploads/2025/05/NY-Roadshow-1024x270-1.png
END:VEVENT
BEGIN:VEVENT
DTSTART;VALUE=DATE:20250922
DTEND;VALUE=DATE:20250924
DTSTAMP:20260423T174405
CREATED:20250624T082135Z
LAST-MODIFIED:20250922T145030Z
UID:10000392-1758499200-1758671999@imsfevent.com
SUMMARY:NYU MEDICAL SCHOOL FAIR
DESCRIPTION:🎓  NYU Medical School Fair – 2025\n📍 September 22nd | NYU Heimerdinger Hall \nYour Future in Medicine Starts Here \nAre you looking to pursue Medicine as a career? Don’t miss NY’s biggest medical education networking event! \n🌍 Meet Top Medical Schools from the U.S.\, UK\, Europe\, Caribbean & more – All in One Place! \n🔹 Network with Directors of Admissions\n🔹 Explore US and global programs\, scholarships\, and pathways\n🔹 Learn how to stand out in your application \n🎯 If you are looking to pursue Medicine and other Healthcare Programs—this fair is your chance to explore every option. \n✅ FREE ENTRY | Limited Spots | Register Now \n📢 Be there. Be informed. Be a future global healthcare leader. \nView Partner Medical Schools \n 
URL:https://imsfevent.com/event/ny-medical-school-fair-nyu/
LOCATION:NYU Heimerdinger Hall\, NY\, United States
CATEGORIES:Student,US
ATTACH;FMTTYPE=image/png:https://imsfevent.com/wp-content/uploads/2025/06/NYU.png
END:VEVENT
BEGIN:VEVENT
DTSTART;VALUE=DATE:20250830
DTEND;VALUE=DATE:20250901
DTSTAMP:20260423T174405
CREATED:20250624T080311Z
LAST-MODIFIED:20250624T081335Z
UID:10000391-1756512000-1756684799@imsfevent.com
SUMMARY:INDIA MEDICAL SCHOOL FAIR – BANGALORE\, KARNATAKA
DESCRIPTION:🎓 India Medical School Fair – 2025\n📍 August 31 | Bangalore\nYour Future in Medicine Starts Here \nAre you planning to study MBBS or MD abroad? Don’t miss India’s biggest medical education networking event! \n🌍 Meet Top Medical Schools from the U.S.\, UK\, Caribbean\, Europe & more – All in One Place! \n🔹 Network with Directors of Admissions\n🔹 Explore global programs\, scholarships\, and pathways\n🔹 Discover why over 25\,000 Indian students go abroad for medical education every year\n🔹 Learn how to overcome NEET competition\, limited seats\, and high tuition fees in India \n🎯 If you are looking to practice as a doctor ABROAD—this fair is your chance to explore every option. \n✅ FREE ENTRY | Limited Spots | Register Now \n📢 Be there. Be informed. Be a future global doctor. \nView Partner Medical Schools \n 
URL:https://imsfevent.com/event/india-medical-school-fair-karnataka/
LOCATION:BANGALORE\, KARNATAKA\, India
CATEGORIES:India,Student
ATTACH;FMTTYPE=image/png:https://imsfevent.com/wp-content/uploads/2025/05/India-1024x344-1.png
END:VEVENT
BEGIN:VEVENT
DTSTART;VALUE=DATE:20250830
DTEND;VALUE=DATE:20250901
DTSTAMP:20260423T174405
CREATED:20250529T020357Z
LAST-MODIFIED:20250627T171050Z
UID:10000004-1756512000-1756684799@imsfevent.com
SUMMARY:INDIA MEDICAL SCHOOL FAIR - EXHIBITOR
DESCRIPTION:🇮🇳 Exhibit at the India Medical School Fair – 2025\nDates & Locations:📍 August 30 – Delhi (Citywide Event)📍 August 31 – Karnataka (Citywide Event) \nEngage with one of the world’s largest and fastest-growing pools of aspiring medical students across two major hubs of academic and healthcare ambition. \nWhy Exhibit?\n\n📈 Over 25\,000 Indian students go abroad for medical education annually—making India one of the top source countries for international medical schools\n🌍 High demand for MBBS\, MD\, and related programs in the U.S.\, Caribbean\, Europe\, and beyond\n🏥 Delhi and Karnataka are home to top-tier science institutions\, coaching centers\, and a concentration of competitive pre-med students actively exploring global options\n🤝 Access highly engaged families\, advisors\, and institutions in citywide events designed for maximum impact\n\nKey reasons for going abroad for Indian students:\n\nLimited seats in Indian medical colleges (especially government institutions)\nHigh competition in NEET (National Eligibility cum Entrance Test)\nLower tuition fees in some foreign countries compared to Indian private medical colleges\nGlobal exposure and access to modern infrastructure\n\nTop destinations for Indian medical students:\n\nRussia\nGeorgia\nPhilippines\nKazakhstan\nChina\nCaribbean nations\nUSA and UK\n\n🚀 Tap into India’s rapidly expanding international medical education market—right where demand is surging.
URL:https://imsfevent.com/event/2025-india-medical-school-fair-exhibitor/
LOCATION:Delhi\, India (City Wide Event)\, Delhi\, India
CATEGORIES:Exhibitor
ATTACH;FMTTYPE=image/png:https://imsfevent.com/wp-content/uploads/2025/05/India-1024x344-1.png
END:VEVENT
BEGIN:VEVENT
DTSTART;VALUE=DATE:20250830
DTEND;VALUE=DATE:20250831
DTSTAMP:20260423T174405
CREATED:20250621T212514Z
LAST-MODIFIED:20250624T164728Z
UID:10000390-1756512000-1756598399@imsfevent.com
SUMMARY:INDIA MEDICAL SCHOOL FAIR – DELHI
DESCRIPTION:🎓 India Medical School Fair – 2025\n📍 August 30 | Delhi\nYour Future in Medicine Starts Here \nAre you planning to study MBBS or MD abroad? Don’t miss India’s biggest medical education networking event! \n🌍 Meet Top Medical Schools from the U.S.\, UK\, Caribbean\, Europe & more – All in One Place! \n🔹 Network with Directors of Admissions\n🔹 Explore global programs\, scholarships\, and pathways\n🔹 Discover why over 25\,000 Indian students go abroad for medical education every year\n🔹 Learn how to overcome NEET competition\, limited seats\, and high tuition fees in India \n🎯 If you are looking to practice as a doctor ABROAD—this fair is your chance to explore every option. \n✅ FREE ENTRY | Limited Spots | Register Now \n📢 Be there. Be informed. Be a future global doctor. \nView Partner Medical Schools \n 
URL:https://imsfevent.com/event/india-medical-school-fair-delhi/
LOCATION:Delhi\, India (City Wide Event)\, Delhi\, India
CATEGORIES:India,Student
ATTACH;FMTTYPE=image/png:https://imsfevent.com/wp-content/uploads/2025/05/India-1024x344-1.png
END:VEVENT
END:VCALENDAR