BEGIN:VCALENDAR
VERSION:2.0
PRODID:-//IMFS Event - ECPv6.15.12//NONSGML v1.0//EN
CALSCALE:GREGORIAN
METHOD:PUBLISH
X-WR-CALNAME:IMFS Event
X-ORIGINAL-URL:https://imsfevent.com
X-WR-CALDESC:Events for IMFS Event
REFRESH-INTERVAL;VALUE=DURATION:PT1H
X-Robots-Tag:noindex
X-PUBLISHED-TTL:PT1H
BEGIN:VTIMEZONE
TZID:America/New_York
BEGIN:DAYLIGHT
TZOFFSETFROM:-0500
TZOFFSETTO:-0400
TZNAME:EDT
DTSTART:20250309T070000
END:DAYLIGHT
BEGIN:STANDARD
TZOFFSETFROM:-0400
TZOFFSETTO:-0500
TZNAME:EST
DTSTART:20251102T060000
END:STANDARD
BEGIN:DAYLIGHT
TZOFFSETFROM:-0500
TZOFFSETTO:-0400
TZNAME:EDT
DTSTART:20260308T070000
END:DAYLIGHT
BEGIN:STANDARD
TZOFFSETFROM:-0400
TZOFFSETTO:-0500
TZNAME:EST
DTSTART:20261101T060000
END:STANDARD
BEGIN:DAYLIGHT
TZOFFSETFROM:-0500
TZOFFSETTO:-0400
TZNAME:EDT
DTSTART:20270314T070000
END:DAYLIGHT
BEGIN:STANDARD
TZOFFSETFROM:-0400
TZOFFSETTO:-0500
TZNAME:EST
DTSTART:20271107T060000
END:STANDARD
END:VTIMEZONE
BEGIN:VEVENT
DTSTART;VALUE=DATE:20260212
DTEND;VALUE=DATE:20260213
DTSTAMP:20260423T171813
CREATED:20250629T154010Z
LAST-MODIFIED:20260212T114326Z
UID:10000418-1770854400-1770940799@imsfevent.com
SUMMARY:ATLANTIC CANADA MEDICAL SCHOOL FAIR – Dalhousie University
DESCRIPTION:🎓  Dalhousie University Medical School Fair – 2026\n📍 February 12th | Dalhousie University (Halifax\, NS) \nYour Future in Medicine Starts Here \nAre you looking to pursue Medicine as a career? Don’t miss Atlantic Canada’s biggest medical education networking event! \n🌍 Meet Top Medical Schools from the U.S.\, UK\, Europe\, Caribbean & more – All in One Place! \n🔹 Network with Directors of Admissions\n🔹 Explore US\, Europe and global programs\, scholarships\, and pathways\n🔹 Learn how to stand out in your application \n🎯 If you are looking to pursue Medicine and other Healthcare Programs—this fair is your chance to explore every option. \n✅ FREE ENTRY | Limited Spots | Register Now  \n📢 Be there. Be informed. Be a future global healthcare leader. \nView Partner Medical Schools \n 
URL:https://imsfevent.com/event/atlantic-canada-medical-school-fair-dalhousie-university/
LOCATION:Dalhousie University (Halifax\, NS)\, 6283 Alumni Crescent\, Halifax\, Nova Scotia\, B3H 4R2\, Canada
CATEGORIES:Canada,Student
ATTACH;FMTTYPE=image/png:https://imsfevent.com/wp-content/uploads/2025/06/2026-IMSF-Event-Posters-3-4.png
END:VEVENT
BEGIN:VEVENT
DTSTART;VALUE=DATE:20260211
DTEND;VALUE=DATE:20260214
DTSTAMP:20260423T171813
CREATED:20250531T021311Z
LAST-MODIFIED:20260113T192219Z
UID:10000383-1770768000-1771027199@imsfevent.com
SUMMARY:ATLANTIC CANADA MEDICAL SCHOOL FAIR - EXHIBITOR
DESCRIPTION:🌊 Exhibit at the Atlantic Canada Medical School Fair – 2026\nDates & Locations:📍 February 11 – University of Prince Edward Island (Charlottetown\, PEI)📍 February 12 – Dalhousie University (Halifax\, NS) 📍 February 13 – Memorial University of Newfoundland (St. John’s\, NL) \nReach aspiring medical professionals from some of Atlantic Canada’s most respected and tightly knit academic communities during this focused three-day recruitment tour. \nWhy Exhibit?\n\n🎓 Dalhousie\, UPEI\, and Memorial have strong life sciences and pre-med programs with high student engagement in global medical education pathways\n🌍 Students from Atlantic Canada frequently look abroad due to limited local seats and interest in international experiences\n📈 Each institution has a growing number of applicants to U.S.\, Caribbean\, UK\, and European medical schools\n🤝 These campuses offer close-knit student bodies and direct access to advisors and pre-health organizations for high-impact engagement\n\nWho Should Exhibit:\n\nU.S. and International Medical Schools\nDoctor of Osteopathic Medical Schools\nDental\, Veterinary\,Optometry\, Pharmacy and other healthcare Programs\nPost-Bacc & Pre-Med Programs\nMedical Admissions Consultants\nMCAT & Application Prep Services\n\n🚀 Tap into an emerging and motivated student base in a region known for academic excellence and healthcare ambition.
URL:https://imsfevent.com/event/atlantic-canada-medical-school-fair-exhibitor/
LOCATION:Dalhousie University (Halifax\, NS)\, 6283 Alumni Crescent\, Halifax\, Nova Scotia\, B3H 4R2\, Canada
CATEGORIES:Exhibitor
ATTACH;FMTTYPE=image/png:https://imsfevent.com/wp-content/uploads/2025/05/ATLANTIC-CANADA-MEDICAL-SCHOOL-FAIR.png
END:VEVENT
END:VCALENDAR