BEGIN:VCALENDAR
VERSION:2.0
PRODID:-//IMFS Event - ECPv6.15.12//NONSGML v1.0//EN
CALSCALE:GREGORIAN
METHOD:PUBLISH
X-ORIGINAL-URL:https://imsfevent.com
X-WR-CALDESC:Events for IMFS Event
REFRESH-INTERVAL;VALUE=DURATION:PT1H
X-Robots-Tag:noindex
X-PUBLISHED-TTL:PT1H
BEGIN:VTIMEZONE
TZID:America/New_York
BEGIN:DAYLIGHT
TZOFFSETFROM:-0500
TZOFFSETTO:-0400
TZNAME:EDT
DTSTART:20250309T070000
END:DAYLIGHT
BEGIN:STANDARD
TZOFFSETFROM:-0400
TZOFFSETTO:-0500
TZNAME:EST
DTSTART:20251102T060000
END:STANDARD
BEGIN:DAYLIGHT
TZOFFSETFROM:-0500
TZOFFSETTO:-0400
TZNAME:EDT
DTSTART:20260308T070000
END:DAYLIGHT
BEGIN:STANDARD
TZOFFSETFROM:-0400
TZOFFSETTO:-0500
TZNAME:EST
DTSTART:20261101T060000
END:STANDARD
BEGIN:DAYLIGHT
TZOFFSETFROM:-0500
TZOFFSETTO:-0400
TZNAME:EDT
DTSTART:20270314T070000
END:DAYLIGHT
BEGIN:STANDARD
TZOFFSETFROM:-0400
TZOFFSETTO:-0500
TZNAME:EST
DTSTART:20271107T060000
END:STANDARD
END:VTIMEZONE
BEGIN:VEVENT
DTSTART;VALUE=DATE:20260221
DTEND;VALUE=DATE:20260225
DTSTAMP:20260423T205352
CREATED:20250531T023124Z
LAST-MODIFIED:20260125T144429Z
UID:10000384-1771632000-1771977599@imsfevent.com
SUMMARY:PUERTO RICO MEDICAL SCHOOL FAIR - EXHIBITOR
DESCRIPTION:🇵🇷 Exhibit at the Puerto Rico Medical School Fair – 2026\nDates & Locations: \n📍 Feb. 21 – San Juan Medical School Fair (City Wide Event)\n📍 Feb 23 – Universidad del Sagrado Corazon\n📍 Feb 24 – University of Puerto Rico Mayaguez\nJoin us for a high-impact\, four-day tour across Puerto Rico to connect with hundreds of motivated students seeking pathways to a medical career—both locally and abroad. \nWhy Exhibit?\n\n📈 Puerto Rico has a strong tradition of sending students to U.S.\, Caribbean\, and international medical schools\, with many seeking bilingual and culturally aligned programs\n🎓 Campuses like UPR Mayagüez and Ponce have established pre-med pipelines\, while San Juan institutions offer access to a diverse\, urban student population\n🌍 Students are highly motivated\, often multilingual\, and open to studying abroad due to limited local placements and high demand\n🤝 Gain direct access to student organizations\, advisors\, and career centers across four top institutions\n\nWho Should Exhibit:\n\nU.S. and International Medical Schools\nDoctor of Osteopathic Medical Schools\nDental\, Veterinary\,Optometry\, Pharmacy and other healthcare Programs\nPost-Bacc & Pre-Med Programs\nMedical Admissions Consultants\nMCAT & Application Prep Services\n\n🚀 Expand your reach into Puerto Rico’s vibrant and ambitious student population—ready to take the next step in healthcare education.
URL:https://imsfevent.com/event/puerto-rico-medical-school-fair-exhibitor/
LOCATION:University of Puerto Rico Mayagüez\, 259 Av. Alfonso Valdés Cobián\, Mayagüez\, 00680\, Puerto Rico
CATEGORIES:Exhibitor
ATTACH;FMTTYPE=image/png:https://imsfevent.com/wp-content/uploads/2025/05/PUERTO-RICO.png
END:VEVENT
END:VCALENDAR