BEGIN:VCALENDAR
VERSION:2.0
PRODID:-//IMFS Event - ECPv6.15.12//NONSGML v1.0//EN
CALSCALE:GREGORIAN
METHOD:PUBLISH
X-ORIGINAL-URL:https://imsfevent.com
X-WR-CALDESC:Events for IMFS Event
REFRESH-INTERVAL;VALUE=DURATION:PT1H
X-Robots-Tag:noindex
X-PUBLISHED-TTL:PT1H
BEGIN:VTIMEZONE
TZID:America/New_York
BEGIN:DAYLIGHT
TZOFFSETFROM:-0500
TZOFFSETTO:-0400
TZNAME:EDT
DTSTART:20250309T070000
END:DAYLIGHT
BEGIN:STANDARD
TZOFFSETFROM:-0400
TZOFFSETTO:-0500
TZNAME:EST
DTSTART:20251102T060000
END:STANDARD
BEGIN:DAYLIGHT
TZOFFSETFROM:-0500
TZOFFSETTO:-0400
TZNAME:EDT
DTSTART:20260308T070000
END:DAYLIGHT
BEGIN:STANDARD
TZOFFSETFROM:-0400
TZOFFSETTO:-0500
TZNAME:EST
DTSTART:20261101T060000
END:STANDARD
BEGIN:DAYLIGHT
TZOFFSETFROM:-0500
TZOFFSETTO:-0400
TZNAME:EDT
DTSTART:20270314T070000
END:DAYLIGHT
BEGIN:STANDARD
TZOFFSETFROM:-0400
TZOFFSETTO:-0500
TZNAME:EST
DTSTART:20271107T060000
END:STANDARD
END:VTIMEZONE
BEGIN:VEVENT
DTSTART;VALUE=DATE:20260305
DTEND;VALUE=DATE:20260309
DTSTAMP:20260423T161753
CREATED:20250531T023637Z
LAST-MODIFIED:20260115T145824Z
UID:10000385-1772668800-1773014399@imsfevent.com
SUMMARY:TEXAS MEDICAL SCHOOL FAIR - EXHIBITOR
DESCRIPTION:🤠 Exhibit at the Texas Medical School Fair – 2026\nDates & Locations: \n📍 March 4 – University of Texas at Dallas \n📍 March 5 – Texas A&M University (College Station) \n📍 March 6 – University of Houston \nMeet hundreds of driven pre-medical students from one of the most populous and academically active states in the U.S.—all in three high-impact stops. \nWhy Exhibit?\n\n📈 Texas produces over 6\,500+ medical school applicants annually\, with a growing number also considering international pathways\n🎓 Home to top-tier public universities and health science centers with robust pre-med pipelines\n🌎 Strong interest in U.S.\, Caribbean\, and global medical programs due to limited in-state seats and rising demand\n🤝 Events in Houston and Dallas give access to diverse urban populations and major student hubs\n\nWho Should Exhibit\n\nU.S. and International Medical Schools\nDoctor of Osteopathic Medical Schools\nDental\, Veterinary\,Optometry\, Pharmacy and other healthcare Programs\nPost-Bacc & Pre-Med Programs\nMedical Admissions Consultants\nMCAT & Application Prep Services\n\n🚀 Don’t miss this opportunity to build visibility and recruit top talent from the Lone Star State.
URL:https://imsfevent.com/event/texas-medical-school-fair-exhibitor/
LOCATION:Texas A&M University (College Station)\, 400 Bizzell St.\, College Station\, TX\, 77843\, United States
CATEGORIES:Exhibitor
ATTACH;FMTTYPE=image/png:https://imsfevent.com/wp-content/uploads/2025/05/Untitled-design-2.png
END:VEVENT
BEGIN:VEVENT
DTSTART;VALUE=DATE:20260305
DTEND;VALUE=DATE:20260306
DTSTAMP:20260423T161753
CREATED:20250629T175307Z
LAST-MODIFIED:20251204T213649Z
UID:10000425-1772668800-1772755199@imsfevent.com
SUMMARY:TEXAS MEDICAL SCHOOL FAIR – Texas A&M University
DESCRIPTION:🎓Texas A&M University Medical School Fair – 2026\n📍March 5th | Texas A&M University \nYour Future in Medicine Starts Here \nAre you looking to pursue Medicine as a career? Don’t miss Texas’ biggest medical education networking event! \n🌍 Meet Top Medical Schools from the U.S.\, UK\, Europe\, Caribbean & more – All in One Place! \n🔹 Network with Directors of Admissions\n🔹 Explore US\, Europe and global programs\, scholarships\, and pathways\n🔹 Learn how to stand out in your application \n🎯 If you are looking to pursue Medicine and other Healthcare Programs—this fair is your chance to explore every option. \n✅ FREE ENTRY | Limited Spots | Register Now  \n📢 Be there. Be informed. Be a future global healthcare leader. \nView Partner Medical Schools \n 
URL:https://imsfevent.com/event/texas-medical-school-fair-texas-am-university/
LOCATION:Texas A&M University (College Station)\, 400 Bizzell St.\, College Station\, TX\, 77843\, United States
CATEGORIES:Student,US
ATTACH;FMTTYPE=image/png:https://imsfevent.com/wp-content/uploads/2025/06/11.png
END:VEVENT
END:VCALENDAR