BEGIN:VCALENDAR
VERSION:2.0
PRODID:-//IMFS Event - ECPv6.15.12//NONSGML v1.0//EN
CALSCALE:GREGORIAN
METHOD:PUBLISH
X-WR-CALNAME:IMFS Event
X-ORIGINAL-URL:https://imsfevent.com
X-WR-CALDESC:Events for IMFS Event
REFRESH-INTERVAL;VALUE=DURATION:PT1H
X-Robots-Tag:noindex
X-PUBLISHED-TTL:PT1H
BEGIN:VTIMEZONE
TZID:America/New_York
BEGIN:DAYLIGHT
TZOFFSETFROM:-0500
TZOFFSETTO:-0400
TZNAME:EDT
DTSTART:20240310T070000
END:DAYLIGHT
BEGIN:STANDARD
TZOFFSETFROM:-0400
TZOFFSETTO:-0500
TZNAME:EST
DTSTART:20241103T060000
END:STANDARD
BEGIN:DAYLIGHT
TZOFFSETFROM:-0500
TZOFFSETTO:-0400
TZNAME:EDT
DTSTART:20250309T070000
END:DAYLIGHT
BEGIN:STANDARD
TZOFFSETFROM:-0400
TZOFFSETTO:-0500
TZNAME:EST
DTSTART:20251102T060000
END:STANDARD
BEGIN:DAYLIGHT
TZOFFSETFROM:-0500
TZOFFSETTO:-0400
TZNAME:EDT
DTSTART:20260308T070000
END:DAYLIGHT
BEGIN:STANDARD
TZOFFSETFROM:-0400
TZOFFSETTO:-0500
TZNAME:EST
DTSTART:20261101T060000
END:STANDARD
END:VTIMEZONE
BEGIN:VEVENT
DTSTART;VALUE=DATE:20251014
DTEND;VALUE=DATE:20251015
DTSTAMP:20260423T230606
CREATED:20250628T090525Z
LAST-MODIFIED:20251008T185538Z
UID:10000398-1760400000-1760486399@imsfevent.com
SUMMARY:UNIVERSITY OF CALIFORNIA LOS ANGELES MEDICAL SCHOOL FAIR
DESCRIPTION:🎓  UCLA Medical School Fair – 2025\n📍 October 14th | University of California Los Angeles \nYour Future in Medicine Starts Here \nAre you looking to pursue Medicine as a career? Don’t miss California’s biggest medical education networking event! \n🌍 Meet Top Medical Schools from the U.S.\, UK\, Europe\, Caribbean & more – All in One Place! \n🔹 Network with Directors of Admissions\n🔹 Explore US\, Europe and global programs\, scholarships\, and pathways\n🔹 Learn how to stand out in your application \n🎯 If you are looking to pursue Medicine and other Healthcare Programs—this fair is your chance to explore every option. \n✅ FREE ENTRY | Limited Spots | Register Now  \n📢 Be there. Be informed. Be a future global healthcare leader. \nView Partner Medical Schools \n 
URL:https://imsfevent.com/event/california-medical-school-fair-university-of-california-los-angeles/
LOCATION:University of California Los Angeles\, CA\, United States
CATEGORIES:Student,US
ATTACH;FMTTYPE=image/png:https://imsfevent.com/wp-content/uploads/2025/06/UCLA-2-1.png
END:VEVENT
END:VCALENDAR