BEGIN:VCALENDAR
VERSION:2.0
PRODID:-//IMFS Event - ECPv6.15.12//NONSGML v1.0//EN
CALSCALE:GREGORIAN
METHOD:PUBLISH
X-WR-CALNAME:IMFS Event
X-ORIGINAL-URL:https://imsfevent.com
X-WR-CALDESC:Events for IMFS Event
REFRESH-INTERVAL;VALUE=DURATION:PT1H
X-Robots-Tag:noindex
X-PUBLISHED-TTL:PT1H
BEGIN:VTIMEZONE
TZID:America/New_York
BEGIN:DAYLIGHT
TZOFFSETFROM:-0500
TZOFFSETTO:-0400
TZNAME:EDT
DTSTART:20240310T070000
END:DAYLIGHT
BEGIN:STANDARD
TZOFFSETFROM:-0400
TZOFFSETTO:-0500
TZNAME:EST
DTSTART:20241103T060000
END:STANDARD
BEGIN:DAYLIGHT
TZOFFSETFROM:-0500
TZOFFSETTO:-0400
TZNAME:EDT
DTSTART:20250309T070000
END:DAYLIGHT
BEGIN:STANDARD
TZOFFSETFROM:-0400
TZOFFSETTO:-0500
TZNAME:EST
DTSTART:20251102T060000
END:STANDARD
BEGIN:DAYLIGHT
TZOFFSETFROM:-0500
TZOFFSETTO:-0400
TZNAME:EDT
DTSTART:20260308T070000
END:DAYLIGHT
BEGIN:STANDARD
TZOFFSETFROM:-0400
TZOFFSETTO:-0500
TZNAME:EST
DTSTART:20261101T060000
END:STANDARD
END:VTIMEZONE
BEGIN:VEVENT
DTSTART;VALUE=DATE:20251007
DTEND;VALUE=DATE:20251008
DTSTAMP:20260423T194625
CREATED:20250715T185213Z
LAST-MODIFIED:20251008T193717Z
UID:10000435-1759795200-1759881599@imsfevent.com
SUMMARY:UNIVERSITY OF WATERLOO MEDICAL SCHOOL FAIR
DESCRIPTION:🎓  University of Guelph Medical School Fairs – 2025\n📍 October 7th  | University of Waterloo\n \nYour Future in Medicine Starts Here \nAre you looking to pursue Medicine as a career? Don’t miss Canada’s biggest medical education networking event! \n🌍 Meet Top Medical Schools from the U.S.\, UK\, Europe\, Caribbean & more – All in One Place! \n🔹 Network with Directors of Admissions\n🔹 Explore US\, Europe and global programs\, scholarships\, and pathways\n🔹 Learn how to stand out in your application \n🎯 If you are looking to pursue Medicine and other Healthcare Programs—this fair is your chance to explore every option. \n✅ FREE ENTRY | Limited Spots | Register Now \n📢 Be there. Be informed. Be a future global healthcare leader. \nView Partner Medical Schools
URL:https://imsfevent.com/event/university-of-waterloo-medical-school-fair/
LOCATION:University of Waterloo\, 200 University Ave W\,\, Waterloo\, ON\, N2L 3G1\, Canada
CATEGORIES:Canada,Student
ATTACH;FMTTYPE=image/png:https://imsfevent.com/wp-content/uploads/2025/07/WATERLOO-2.png
END:VEVENT
BEGIN:VEVENT
DTSTART;VALUE=DATE:20251006
DTEND;VALUE=DATE:20251008
DTSTAMP:20260423T194625
CREATED:20250715T185631Z
LAST-MODIFIED:20250917T160010Z
UID:10000436-1759708800-1759881599@imsfevent.com
SUMMARY:GUELPH and WATERLOO MEDICAL SCHOOL FAIR - EXHIBITOR
DESCRIPTION:🍁 Exhibit at the Guelph and Waterloo Medical School Fair – Canada 2025\nDates & Locations:📍 October 6 – University of Guelph📍 October 7 – University of Waterloo \nConnect with one of Canada’s largest pools of aspiring medical students across three powerful days of engagement and exposure. \nWhy Exhibit?\n\n🎓 Meet thousands of highly driven students from Canada’s top universities\n🌎 Promote your medical programs to a diverse and globally-minded audience\n🤝 Build relationships with academic advisors\, education agents\, and partners\n🎤 Host sessions and personal advising to highlight your school’s strengths\n\nPerfect for:\n\nCanadian\, U.S. and International Medical Schools\nDoctor of Osteopathic Medical Schools\nDental\, Veterinary\,Optometry\, Pharmacy and other healthcare Programs\nPost-Bacc & Pre-Med Programs\nMedical Admissions Consultants\nMCAT & Application Prep Services\n\n\n🚀 Expand your reach in Canada’s most dynamic education hub specifically for Medicine and Healthcare Programs.
URL:https://imsfevent.com/event/guelph-waterloo-medical-school-fair-exhibitor-2/
LOCATION:University of Guelph\, 50 Stone Rd E\, Guelph\, ON\, N1G 2W1\, Canada
CATEGORIES:Exhibitor
END:VEVENT
END:VCALENDAR